BEGIN:VCALENDAR
VERSION:2.0
PRODID:-//Delta Sigma Theta Sorority Inc Huntsville Alumnae Chapter - ECPv6.15.20//NONSGML v1.0//EN
CALSCALE:GREGORIAN
METHOD:PUBLISH
X-ORIGINAL-URL:https://dsthuntsville.org
X-WR-CALDESC:Events for Delta Sigma Theta Sorority Inc Huntsville Alumnae Chapter
REFRESH-INTERVAL;VALUE=DURATION:PT1H
X-Robots-Tag:noindex
X-PUBLISHED-TTL:PT1H
BEGIN:VTIMEZONE
TZID:America/Chicago
BEGIN:DAYLIGHT
TZOFFSETFROM:-0600
TZOFFSETTO:-0500
TZNAME:CDT
DTSTART:20250309T080000
END:DAYLIGHT
BEGIN:STANDARD
TZOFFSETFROM:-0500
TZOFFSETTO:-0600
TZNAME:CST
DTSTART:20251102T070000
END:STANDARD
BEGIN:DAYLIGHT
TZOFFSETFROM:-0600
TZOFFSETTO:-0500
TZNAME:CDT
DTSTART:20260308T080000
END:DAYLIGHT
BEGIN:STANDARD
TZOFFSETFROM:-0500
TZOFFSETTO:-0600
TZNAME:CST
DTSTART:20261101T070000
END:STANDARD
BEGIN:DAYLIGHT
TZOFFSETFROM:-0600
TZOFFSETTO:-0500
TZNAME:CDT
DTSTART:20270314T080000
END:DAYLIGHT
BEGIN:STANDARD
TZOFFSETFROM:-0500
TZOFFSETTO:-0600
TZNAME:CST
DTSTART:20271107T070000
END:STANDARD
END:VTIMEZONE
BEGIN:VEVENT
DTSTART;TZID=America/Chicago:20260321T120000
DTEND;TZID=America/Chicago:20260321T140000
DTSTAMP:20260423T095820
CREATED:20260221T003824Z
LAST-MODIFIED:20260221T004351Z
UID:7430-1774094400-1774101600@dsthuntsville.org
SUMMARY:Join HAC for a Crimson & Cream Conversation on March 21\, 2026
DESCRIPTION:The Huntsville Alumnae Chapter of Delta Sigma Theta Sorority\, Inc. Social Action Committee\,\ncordially invites you to a crucial Crimson and Cream Conversations civic engagement series on Constitutional Rights.  See flier for details!\n\nWe are grateful to host this event in partnership with the Interfaith Mission Service\, Muslim American Society\, League of Women Voters of Tennessee Valley\, Madison County Democrats\, United Women of Color\, Alpha Phi Alpha-Rho Eta Lambda\, Alpha Kappa Alpha- Rho Chi Omega\, Delta Sigma Theta Central North Alabama Alumnae\, Kappa Alpha Psi- Huntsville Alumni Chapter\, Phi Beta Sigma- Beta Epsilon Sigma\, Omega Psi Phi-Xi Omicron\, and Zeta Phi Beta-Psi Alpha Zeta.
URL:https://dsthuntsville.org/hacevent/join-hac-for-a-crimson-cream-conversation-on-march-21-2026/
LOCATION:Center Grove United Methodist Church\, 185 Plummer Road\, Huntsville\, AL\, 35806\, United States
END:VEVENT
END:VCALENDAR