BEGIN:VCALENDAR
VERSION:2.0
PRODID:-//Delta Sigma Theta Sorority Inc Huntsville Alumnae Chapter - ECPv6.15.20//NONSGML v1.0//EN
CALSCALE:GREGORIAN
METHOD:PUBLISH
X-WR-CALNAME:Delta Sigma Theta Sorority Inc Huntsville Alumnae Chapter
X-ORIGINAL-URL:https://dsthuntsville.org
X-WR-CALDESC:Events for Delta Sigma Theta Sorority Inc Huntsville Alumnae Chapter
REFRESH-INTERVAL;VALUE=DURATION:PT1H
X-Robots-Tag:noindex
X-PUBLISHED-TTL:PT1H
BEGIN:VTIMEZONE
TZID:America/Chicago
BEGIN:DAYLIGHT
TZOFFSETFROM:-0600
TZOFFSETTO:-0500
TZNAME:CDT
DTSTART:20240310T080000
END:DAYLIGHT
BEGIN:STANDARD
TZOFFSETFROM:-0500
TZOFFSETTO:-0600
TZNAME:CST
DTSTART:20241103T070000
END:STANDARD
BEGIN:DAYLIGHT
TZOFFSETFROM:-0600
TZOFFSETTO:-0500
TZNAME:CDT
DTSTART:20250309T080000
END:DAYLIGHT
BEGIN:STANDARD
TZOFFSETFROM:-0500
TZOFFSETTO:-0600
TZNAME:CST
DTSTART:20251102T070000
END:STANDARD
BEGIN:DAYLIGHT
TZOFFSETFROM:-0600
TZOFFSETTO:-0500
TZNAME:CDT
DTSTART:20260308T080000
END:DAYLIGHT
BEGIN:STANDARD
TZOFFSETFROM:-0500
TZOFFSETTO:-0600
TZNAME:CST
DTSTART:20261101T070000
END:STANDARD
BEGIN:DAYLIGHT
TZOFFSETFROM:-0600
TZOFFSETTO:-0500
TZNAME:CDT
DTSTART:20270314T080000
END:DAYLIGHT
BEGIN:STANDARD
TZOFFSETFROM:-0500
TZOFFSETTO:-0600
TZNAME:CST
DTSTART:20271107T070000
END:STANDARD
END:VTIMEZONE
BEGIN:VEVENT
DTSTART;TZID=America/Chicago:20260110T100000
DTEND;TZID=America/Chicago:20260110T120000
DTSTAMP:20260423T151250
CREATED:20251005T210802Z
LAST-MODIFIED:20251230T042748Z
UID:7124-1768039200-1768046400@dsthuntsville.org
SUMMARY:January Chapter Meeting\, 1/10/26 at 10AM - Via Zoom
DESCRIPTION:Huntsville Alumnae Chapter will hold our monthly chapter meeting on Saturday\, January 10\, 2026 at 10AM   This will be a VIRTUAL meeting via Zoom.   \nFor non-Huntsville Alumnae sorors desiring to attend this meeting\, please download\, complete and submit the membership verification form at least 72 hours in advance of the scheduled start of the meeting. Please email completed forms to financialsecretary@dsthuntsville.org.
URL:https://dsthuntsville.org/hacevent/zoom-chapter-meeting/
LOCATION:AL
END:VEVENT
BEGIN:VEVENT
DTSTART;TZID=America/Chicago:20251213T100000
DTEND;TZID=America/Chicago:20251213T120000
DTSTAMP:20260423T151250
CREATED:20251207T224227Z
LAST-MODIFIED:20251207T225539Z
UID:7283-1765620000-1765627200@dsthuntsville.org
SUMMARY:December Chapter Meeting - 12/13/25 at Columbia High School
DESCRIPTION:Huntsville Alumnae Chapter will hold our monthly chapter meeting on Saturday\,  December 13\, 2025 at 10AM.   The meeting will be held at Columbia High School\, 300 Explorer Blvd\, Huntsville\, AL 35810. \nFor non-Huntsville Alumnae sorors desiring to attend this meeting\, please download\, complete and submit the membership verification form at least 72 hours in advance of the scheduled start of the virtual meeting. Please email completed forms to financialsecretary@dsthuntsville.org.
URL:https://dsthuntsville.org/hacevent/december-chapter-meeting-12-13-25-at-columbia-high-school/
LOCATION:Columbia High School\, 300 Explorer Blvd\, Huntsville\, AL\, 35806\, United States
END:VEVENT
BEGIN:VEVENT
DTSTART;TZID=America/Chicago:20251027T190000
DTEND;TZID=America/Chicago:20251027T200000
DTSTAMP:20260423T151250
CREATED:20251020T161854Z
LAST-MODIFIED:20251020T161854Z
UID:7182-1761591600-1761595200@dsthuntsville.org
SUMMARY:Join HAC to celebrate Representative Laura Hall Day!
DESCRIPTION:
URL:https://dsthuntsville.org/hacevent/join-hac-to-celebrate-representative-laura-hall-day/
LOCATION:AAMU\, 4900 Meridian Street\, Huntsville\, AL
END:VEVENT
BEGIN:VEVENT
DTSTART;TZID=America/Chicago:20251019T140000
DTEND;TZID=America/Chicago:20251019T160000
DTSTAMP:20260423T151251
CREATED:20250919T002656Z
LAST-MODIFIED:20250919T002656Z
UID:7113-1760882400-1760889600@dsthuntsville.org
SUMMARY:Estate Planning Seminar - 10/19/2025
DESCRIPTION:
URL:https://dsthuntsville.org/hacevent/estate-planning-seminar-10-19-2025/
LOCATION:AL
END:VEVENT
BEGIN:VEVENT
DTSTART;TZID=America/Chicago:20251005T120000
DTEND;TZID=America/Chicago:20251010T180000
DTSTAMP:20260423T151251
CREATED:20251007T022950Z
LAST-MODIFIED:20251007T022950Z
UID:7138-1759665600-1760119200@dsthuntsville.org
SUMMARY:Alabama A&M Homecoming D9 Pop-Up Shop
DESCRIPTION:Alabama A&M Homecoming D9 Pop-Up Shop \nOctober 5-10\, 2025 from 12pm-6pm\nMeridian Plaza\, 4701 Meridian Street\, Suite K\, Huntsville\, 35811.
URL:https://dsthuntsville.org/hacevent/alabama-am-homecoming-d9-pop-up-shop/
LOCATION:Meridian Plaza\, 4701 Meridian St\, Suite K\, Huntsville\, AL\, 35811\, United States
END:VEVENT
BEGIN:VEVENT
DTSTART;TZID=America/Chicago:20250923T070000
DTEND;TZID=America/Chicago:20250923T190000
DTSTAMP:20260423T151251
CREATED:20250907T191331Z
LAST-MODIFIED:20250907T192021Z
UID:7043-1758610800-1758654000@dsthuntsville.org
SUMMARY:Madison City District 6 Run-Off Election
DESCRIPTION:Madison City District 6 run-off\, voters will choose between candidates Scott Harbour and Erica White on Tuesday\, September 23\, 2025.\n\nIMPORTANT DATES:\nLast day to register to vote: Monday\, September 8\, 2025\n\nLast day to apply for a regular absentee ballot: Thursday\, September 18\, 2025\n\n\n\nRun-off election:\nTuesday\, September 23\, 2025.\nPoll hours: 7:00 a.m. to 7:00 p.m.
URL:https://dsthuntsville.org/hacevent/madison-city-district-6-run-off-election/
LOCATION:AL
END:VEVENT
BEGIN:VEVENT
DTSTART;VALUE=DATE:20250606
DTEND;VALUE=DATE:20250801
DTSTAMP:20260423T151251
CREATED:20250606T151023Z
LAST-MODIFIED:20250826T232949Z
UID:6660-1749168000-1754006399@dsthuntsville.org
SUMMARY:HAC Youth Initiatives Programs - Registration is Open for 2025-2026
DESCRIPTION:HAC Youth Initiatives Programs Registration is now open for the 2025-2026 program year.  Please use THIS LINK  or scan the QR Code on the flyer.  Deadline for registration is July 31\, 2025.
URL:https://dsthuntsville.org/hacevent/hac-youth-initiatives-programs-registration-is-open-for-2025-2026/
LOCATION:AL
ATTACH;FMTTYPE=image/jpeg:https://dsthuntsville.org/wp-content/uploads/2025/06/HAC-Youth-Initiatives-Registration-Flyer-2025-26-1024x791-1.jpg
END:VEVENT
BEGIN:VEVENT
DTSTART;TZID=America/Chicago:20250503T160000
DTEND;TZID=America/Chicago:20250503T210000
DTSTAMP:20260423T151251
CREATED:20250812T010158Z
LAST-MODIFIED:20250701T022617Z
UID:6617-1746288000-1746306000@dsthuntsville.org
SUMMARY:2025 Delta Derby Extravaganza
DESCRIPTION:It is almost time for mint juleps\, seersucker suits\, and fascinator hats. The Kentucky Derby is just as much about fashion as it is about horse racing.The Huntsville Alumnae Chapter of Delta Sigma Theta Sorority\, Inc. brings that flair to North Alabama for its 2025 Delta Derby Extravaganza. The Delta Derby is May 3 from 4 p.m. to 9 p.m. at the Stone Event Center at Campus 805 in Huntsville. The money raised will go toward scholarships and community service projects for the local chapter. Get your tickets today: https://www.jotform.com/250674544428058
URL:https://dsthuntsville.org/hacevent/2025-delta-derby-extravaganza/
LOCATION:Stone Event Center on Campus 805\, 2620 Clinton Ave W.\, Huntsville\, AL\, 35805\, United States
ATTACH;FMTTYPE=image/jpeg:https://dsthuntsville.org/wp-content/uploads/2025/04/hacdst-derby.jpg
END:VEVENT
END:VCALENDAR